BEGIN:VCALENDAR
VERSION:2.0
PRODID:-//ZIEGER - ECPv6.15.20//NONSGML v1.0//EN
CALSCALE:GREGORIAN
METHOD:PUBLISH
X-WR-CALNAME:ZIEGER
X-ORIGINAL-URL:https://zieger.com.br
X-WR-CALDESC:Eventos para ZIEGER
REFRESH-INTERVAL;VALUE=DURATION:PT1H
X-Robots-Tag:noindex
X-PUBLISHED-TTL:PT1H
BEGIN:VTIMEZONE
TZID:America/Sao_Paulo
BEGIN:STANDARD
TZOFFSETFROM:-0300
TZOFFSETTO:-0300
TZNAME:-03
DTSTART:20250101T000000
END:STANDARD
END:VTIMEZONE
BEGIN:VEVENT
DTSTART;TZID=America/Sao_Paulo:20260212T190000
DTEND;TZID=America/Sao_Paulo:20260212T230000
DTSTAMP:20260424T201838
CREATED:20260130T140515Z
LAST-MODIFIED:20260130T140521Z
UID:6947-1770922800-1770937200@zieger.com.br
SUMMARY:[Workshop] Como Utilizar o Copilot e a Inteligência Artificial na Frente de Negócios
DESCRIPTION:[Workshop] Como Utilizar o Copilot e a Inteligência Artificial na Frente de Negócios \n\n\n\n\n\n\n\nPor que este workshop é para você? \n\n\n\nA inteligência artificial já é uma realidade no mundo do trabalho. Mas ainda são poucos os profissionais que sabem como aplicar IA no dia a dia\,  \n\n\n\nA Inteligência Artificial está se tornando uma aliada indispensável para profissionais que desejam acelerar decisões e gerar resultados reais. \n\n\n\nNeste workshop prático e interativo\, conduzido por João Henrique Jacinto\, você aprenderá a utilizar o Microsoft Copilot e outras ferramentas de IA generativa para aumentar sua produtividade\, otimizar relatórios\, estruturar insights e apoiar a gestão de negócios. \n\n\n\nEm três horas\, você vai compreender como aplicar a IA de forma estratégica\, não apenas como ferramenta técnica\, mas como um agente de transformação no trabalho. \n\n\n\nO que você vai aprender: \n\n\n\n\nIntrodução prática ao Microsoft Copilot e seu ecossistema\n\n\n\nAplicações da IA generativa em análises e relatórios executivos\n\n\n\nAutomatização de rotinas de negócio com IA e prompts eficazes\n\n\n\nComo conectar Copilot e Power Platform para apoiar decisões\n\n\n\nBoas práticas para integrar IA ao dia a dia de gestores e analistas\n\n\n\n\nPúblico-alvo: \n\n\n\nProfissionais de gestão\, negócios\, líderes de projeto\, analistas de negócio e todos que buscam utilizar a IA como apoio à tomada de decisão e aumento de eficiência. \n\n\n\nCertificação PMI São Paulo e Zieger Learning Center \n\n\n\nTodos os participantes receberão certificado digital de participação. \n\n\n\nIngressos: \n\n\n\nParticipante Ao Vivo | Padrão: Acesso completo à transmissão ao vivo do workshop e certificado de participação. Ideal para quem quer participar do workshop ao vivo\, interagir com os especialistas e obter o certificado digital de participação. \n\n\n\nParticipante Premium: Inclui gravação\, materiais e certificado completo. Esse ingresso é voltado para quem deseja continuar aprendendo após o evento. \n\n\n\n\n\n\n\n  Detalhes do Programa\n  \n\n  Início das Turmas:Matrículas abertas \n  Duração:1 semana \n  Carga Horária:4 horas por semana \n  Formato:100% Online \n  Investimento:R$49\,90 \n\n  \n\n  PRONTO PARA COMEÇAR?\n  INSCREVA-SE AGORA\n\n  \n\n  PRECISA DE MAIS INFORMAÇÕES?\n  SOLICITAR INFORMAÇÕES
URL:https://zieger.com.br/event/workshop-como-utilizar-o-copilot-e-a-inteligencia-artificial-na-frente-de-negocios/
ATTACH;FMTTYPE=image/jpeg:https://zieger.com.br/wp-content/uploads/2026/01/WS-IA-Paisagem-zieger.jpg
END:VEVENT
BEGIN:VEVENT
DTSTART;TZID=America/Sao_Paulo:20260223T190000
DTEND;TZID=America/Sao_Paulo:20260318T220000
DTSTAMP:20260424T201838
CREATED:20251111T113223Z
LAST-MODIFIED:20260130T140057Z
UID:6476-1771873200-1773871200@zieger.com.br
SUMMARY:Curso Inteligência Artificial Generativa para Gestão de Projetos – Turma 2026
DESCRIPTION:Curso de Inteligência Artificial para Gerentes de Projetos \n\n\n\n\n\n\n\nCapacitar profissionais de gestão de projetos com conhecimentos práticos e teóricos sobre Inteligência Artificial (IA)\, focando em ferramentas no-code para integração de IA generativa e análise preditiva de riscos\, melhorando a eficiência e a tomada de decisões em projetos. \n\n\n\n\nInteração intensiva com IA: Você aprenderá a interagir diretamente com tecnologias de IA generativa como ChatGPT\, aplicando essas tecnologias em cenários reais de gestão de projetos.\n\n\n\nSimulações práticas: Participe de simulações de previsibilidade de riscos e construção de chatbots\, obtendo experiência prática que pode ser aplicada imediatamente.\n\n\n\nFerramentas no-code: Aprenda a utilizar ferramentas no-code como Power Automate e Airtable para desenvolver soluções avançadas sem a necessidade de conhecimentos profundos em programação.\n\n\n\nProjetos reais: Desenvolva projetos reais que integrarão IA generativa em fluxos de trabalho de gestão de projetos\, desde a coleta de dados até a análise preditiva.\n\n\n\nAprendizado contínuo: Receba feedback contínuo e suporte dos instrutores\, garantindo que você possa aplicar os conhecimentos adquiridos de forma eficaz.\n\n\n\n\nFormato das Aulas \n\n\n\nAulas ao vivo\, online\, realizadas de segunda e quarta-feira\, das 19:00 às 22:00\, com gravações disponíveis para revisão posterior em uma plataforma exclusiva. \n\n\n\nPúblico-Alvo \n\n\n\n\nGerentes de projetos que buscam aprimorar suas habilidades práticas e estratégicas.\n\n\n\nProfissionais iniciantes em cargos de PMO ou projetos\, interessados em aprender práticas e vivências em gestão de projetos com IA.\n\n\n\nEmpresas que desejam capacitar seus funcionários com conhecimentos avançados em gestão de projetos.\n\n\n\n\nBenefícios do Curso \n\n\n\n\nAprendizado prático e aplicado com uso de ferramentas como ChatGPT\, Monday\, Airtable\, power automate e outros.\n\n\n\nIntegração de inteligência artificial para otimização e suporte na gestão de projetos.\n\n\n\n\nO curso irá te conferir também PDUs! 24 PDUs \n\n\n\nCertificação \n\n\n\nAo final do curso\, os participantes receberão um certificado de conclusão\, reconhecendo sua expertise e habilidades avançadas em IA-Generativa em gestão de projetos. \n\n\n\n\n\n\n\nJoão H B Jacinto\, PMP®\, CAPM®\, PMI CD-F®\, CD-BA®\, é um profissional especialista em gestão de projetos pela USP\, especialista em megaprojetos pela University of La Verne\, e fundador da Zieger\, uma grande empresa de consultoria e treinamentos mundial\, João possui experiência internacional em liderança de equipes e gestão de projetos em diversas áreas. Liderou e desenvolveu multiplos projetos de IA e tecnologia\, pronto para compartilhar com você esses conhecimentos! \n\n\n\nJunto com o PMI São Paulo\, estamos preparados para guiá-los na jornada da transformação digital. Esteja pronto para adquirir conhecimentos e habilidades práticas na Power Platform e se tornar um agente de mudança\, capacitado para impulsionar a transformação digital em projetos e se destacar no mundo atualmente orientado pela tecnologia. \n\n\n\nInscreva-se agora e esteja preparado para alcançar o sucesso em seus projetos\, aproveitando ao máximo os benefícios da transformação digital! \n\n\n\n\n\n\n\n\nPara cursos presenciais\, caso tenha alguma restrição alimentar\, pedimos a gentileza de nos informar para avaliarmos a nossa capacidade em atendê-lo da melhor maneira para que você tenha uma ótima experiência conosco.\n\n\n\nAs inscrições poderão ser feitas até o dia de início do curso ou até o término das vagas e são individuais.\n\n\n\nA efetivação da inscrição dependerá da confirmação do pagamento e no caso de associados e voluntários\, da confirmação do status atual no PMI São Paulo (ativo);\n\n\n\nA data de início do curso será reagendada caso o número mínimo de 10 inscritos com pagamentos confirmados não seja atingido até o dia de início do curso;\n\n\n\nEm caso de desistência do candidato\, não haverá devolução da taxa de inscrição\, dos juros cobrados pelas operadoras de cartões de crédito e de qualquer outra taxa paga pelo candidato. O valor pago também não será considerado como crédito para eventos futuros;\n\n\n\nEm caso de cancelamento do curso por parte do PMI São Paulo\, haverá devolução do valor de inscrição ao candidato\, porém o PMI São Paulo não se responsabiliza pela devolução das taxas das operadoras de cartão de crédito. Caso ocorra o cancelamento do curso e deseje a devolução do valor de inscrição ao candidato\, faça o requerimento do reembolso diretamente na plataforma Sympla;\n\n\n\nSe houver necessidade de adiamento do curso por quaisquer motivos e a nova data não atender ao interesse do candidato\, a devolução de valores está sujeita ao item acima mencionado;\n\n\n\nNão serão realizadas reservas de vagas;\n\n\n\nNão serão realizadas inscrições por telefone;\n\n\n\nCaso seja portador de alguma necessidade especial\, pedimos a gentileza de nos informar\, para avaliarmos a nossa capacidade em atendê-lo da melhor maneira para que você tenha uma ótima experiência conosco;\n\n\n\n\n\n\n\n\n  Detalhes do Programa\n  \n\n  Início das Turmas:Matrículas abertas \n  Duração:4 a 5 semanas \n  Carga Horária:6 horas por semana \n  Formato:100% Online \n  Investimento:R$979 à R$1199 \n\n  \n\n  PRONTO PARA COMEÇAR?\n  INSCREVA-SE AGORA\n\n  \n\n  PRECISA DE MAIS INFORMAÇÕES?\n  SOLICITAR INFORMAÇÕES
URL:https://zieger.com.br/event/curso-inteligencia-artificial-generativa-para-gestao-de-projetos-turma-2026/
ATTACH;FMTTYPE=image/jpeg:https://zieger.com.br/wp-content/uploads/2025/11/Curso-IA-Horizontal-zieger.jpg
END:VEVENT
END:VCALENDAR