BEGIN:VCALENDAR
VERSION:2.0
PRODID:-//ZIEGER - ECPv6.15.20//NONSGML v1.0//EN
CALSCALE:GREGORIAN
METHOD:PUBLISH
X-ORIGINAL-URL:https://zieger.com.br
X-WR-CALDESC:Eventos para ZIEGER
REFRESH-INTERVAL;VALUE=DURATION:PT1H
X-Robots-Tag:noindex
X-PUBLISHED-TTL:PT1H
BEGIN:VTIMEZONE
TZID:America/Sao_Paulo
BEGIN:STANDARD
TZOFFSETFROM:-0300
TZOFFSETTO:-0300
TZNAME:-03
DTSTART:20250101T000000
END:STANDARD
END:VTIMEZONE
BEGIN:VEVENT
DTSTART;TZID=America/Sao_Paulo:20260725T080000
DTEND;TZID=America/Sao_Paulo:20260725T130000
DTSTAMP:20260425T005308
CREATED:20260130T141005Z
LAST-MODIFIED:20260130T141013Z
UID:6950-1784966400-1784984400@zieger.com.br
SUMMARY:[Workshop] Citizen Development na Prática
DESCRIPTION:[Workshop] Citizen Development na Prática \n\n\n\n\n\n\n\n[Workshop] Citizen Development na Prática \n\n\n\nPor que este workshop é para você? \n\n\n\nA transformação digital deixou de ser exclusiva das áreas de TI. Hoje\, qualquer profissional pode criar soluções reais utilizando ferramentas no-code\, IA generativa e automação inteligente. \n\n\n\nNeste workshop\, baseado no Framework de Citizen Development do PMI\, você vai aprender como aplicar esses conceitos de forma estratégica e prática\, desenvolvendo soluções digitais que aumentam a eficiência e aceleram resultados no seu ambiente de trabalho. \n\n\n\nCom demonstrações reais e uma visão de negócios centrada em valor\, o instrutor João Henrique Jacinto\, PMI Rising Leader 2025\, mostrará como unir liderança\, tecnologia e agilidade na criação de produtos e automações sem precisar programar. \n\n\n\nO que você vai aprender\n\n\n\n\nComo aplicar o framework do PMI para Citizen Development\n\n\n\nFundamentos de IA e automação no contexto empresarial\n\n\n\nComo criar soluções no-code e workflows inteligentes\n\n\n\nIntegração de IA generativa em processos de negócio\n\n\n\nCasos reais e ferramentas práticas para aplicar no dia a dia\n\n\n\n\nPúblico-alvo: \n\n\n\nProfissionais de gestão\, negócios\, líderes de projeto\, analistas de negócio e todos que buscam utilizar a IA como apoio à tomada de decisão e aumento de eficiência. \n\n\n\nCertificação PMI São Paulo e Zieger Learning Center \n\n\n\nTodos os participantes receberão certificado digital de participação. \n\n\n\nIngressos: \n\n\n\nParticipante Ao Vivo | Padrão: Acesso completo à transmissão ao vivo do workshop e certificado de participação. Ideal para quem quer participar do workshop ao vivo\, interagir com os especialistas e obter o certificado digital de participação. \n\n\n\nParticipante Premium: Inclui gravação\, materiais e certificado completo. Esse ingresso é voltado para quem deseja continuar aprendendo após o evento. \n\n\n\n \n\n\n\n\n\n\n\n  Detalhes do Programa\n  \n\n  Início das Turmas:Matrículas abertas \n  Duração:1 semana \n  Carga Horária:6 horas por semana \n  Formato:100% Online \n  Investimento:R$49\,90 \n\n  \n\n  PRONTO PARA COMEÇAR?\n  INSCREVA-SE AGORA\n\n  \n\n  PRECISA DE MAIS INFORMAÇÕES?\n  SOLICITAR INFORMAÇÕES
URL:https://zieger.com.br/event/workshop-citizen-development-na-pratica/
ATTACH;FMTTYPE=image/jpeg:https://zieger.com.br/wp-content/uploads/2026/01/WS-IA-3-Paisagem-ZIEGER.jpg
END:VEVENT
END:VCALENDAR